BEGIN:VCALENDAR
VERSION:2.0
PRODID:-//Mal Varlack - ECPv6.15.15//NONSGML v1.0//EN
CALSCALE:GREGORIAN
METHOD:PUBLISH
X-WR-CALNAME:Mal Varlack
X-ORIGINAL-URL:https://malvarlack.insurancegls.com
X-WR-CALDESC:Events for Mal Varlack
REFRESH-INTERVAL;VALUE=DURATION:PT1H
X-Robots-Tag:noindex
X-PUBLISHED-TTL:PT1H
BEGIN:VTIMEZONE
TZID:America/New_York
BEGIN:DAYLIGHT
TZOFFSETFROM:-0500
TZOFFSETTO:-0400
TZNAME:EDT
DTSTART:20240310T070000
END:DAYLIGHT
BEGIN:STANDARD
TZOFFSETFROM:-0400
TZOFFSETTO:-0500
TZNAME:EST
DTSTART:20241103T060000
END:STANDARD
BEGIN:DAYLIGHT
TZOFFSETFROM:-0500
TZOFFSETTO:-0400
TZNAME:EDT
DTSTART:20250309T070000
END:DAYLIGHT
BEGIN:STANDARD
TZOFFSETFROM:-0400
TZOFFSETTO:-0500
TZNAME:EST
DTSTART:20251102T060000
END:STANDARD
BEGIN:DAYLIGHT
TZOFFSETFROM:-0500
TZOFFSETTO:-0400
TZNAME:EDT
DTSTART:20260308T070000
END:DAYLIGHT
BEGIN:STANDARD
TZOFFSETFROM:-0400
TZOFFSETTO:-0500
TZNAME:EST
DTSTART:20261101T060000
END:STANDARD
END:VTIMEZONE
BEGIN:VEVENT
DTSTART;TZID=America/New_York:20251030T150000
DTEND;TZID=America/New_York:20251030T160000
DTSTAMP:20260421T072415
CREATED:20251016T132036Z
LAST-MODIFIED:20251030T155318Z
UID:10001658-1761836400-1761840000@malvarlack.insurancegls.com
SUMMARY:ManhattanLife – Dental\, Vision\, and Hearing – Select
DESCRIPTION:
URL:https://malvarlack.insurancegls.com/event/manhattanlife-dental-vision-and-hearing-select/
END:VEVENT
BEGIN:VEVENT
DTSTART;TZID=America/New_York:20251030T150000
DTEND;TZID=America/New_York:20251030T160000
DTSTAMP:20260421T072415
CREATED:20251016T132035Z
LAST-MODIFIED:20251030T155318Z
UID:10001653-1761836400-1761840000@malvarlack.insurancegls.com
SUMMARY:Growing your Sales with Enhanced Health ProtectorGuard
DESCRIPTION:
URL:https://malvarlack.insurancegls.com/event/growing-your-sales-with-enhanced-health-protectorguard/
END:VEVENT
BEGIN:VEVENT
DTSTART;TZID=America/New_York:20251030T150000
DTEND;TZID=America/New_York:20251030T160000
DTSTAMP:20260421T072415
CREATED:20251016T132035Z
LAST-MODIFIED:20251030T155318Z
UID:10001654-1761836400-1761840000@malvarlack.insurancegls.com
SUMMARY:Tom Hegna “10 Tips to Close 2025”
DESCRIPTION:
URL:https://malvarlack.insurancegls.com/event/tom-hegna-10-tips-to-close-2025/
END:VEVENT
BEGIN:VEVENT
DTSTART;TZID=America/New_York:20251030T140000
DTEND;TZID=America/New_York:20251030T150000
DTSTAMP:20260421T072415
CREATED:20251016T132035Z
LAST-MODIFIED:20251030T155317Z
UID:10001651-1761832800-1761836400@malvarlack.insurancegls.com
SUMMARY:Final Expense Whole Life Insurance (CLI)
DESCRIPTION:
URL:https://malvarlack.insurancegls.com/event/final-expense-whole-life-insurance-cli-2/
END:VEVENT
BEGIN:VEVENT
DTSTART;TZID=America/New_York:20251030T140000
DTEND;TZID=America/New_York:20251030T150000
DTSTAMP:20260421T072415
CREATED:20251016T132035Z
LAST-MODIFIED:20251030T155318Z
UID:10001652-1761832800-1761836400@malvarlack.insurancegls.com
SUMMARY:Aetna Senior Supplemental – Final Expense Whole Life Insurance (CLI)
DESCRIPTION:
URL:https://malvarlack.insurancegls.com/event/aetna-senior-supplemental-final-expense-whole-life-insurance-cli/
END:VEVENT
BEGIN:VEVENT
DTSTART;TZID=America/New_York:20251030T110000
DTEND;TZID=America/New_York:20251030T120000
DTSTAMP:20260421T072415
CREATED:20251016T132034Z
LAST-MODIFIED:20251030T155317Z
UID:10001649-1761822000-1761825600@malvarlack.insurancegls.com
SUMMARY:TETON 5 & TETON Bonus 5
DESCRIPTION:
URL:https://malvarlack.insurancegls.com/event/teton-5-teton-bonus-5-4/
END:VEVENT
BEGIN:VEVENT
DTSTART;TZID=America/New_York:20251030T110000
DTEND;TZID=America/New_York:20251030T120000
DTSTAMP:20260421T072415
CREATED:20251016T132034Z
LAST-MODIFIED:20251030T155317Z
UID:10001650-1761822000-1761825600@malvarlack.insurancegls.com
SUMMARY:Saybrus Partners – TETON 5 & TETON Bonus 5
DESCRIPTION:
URL:https://malvarlack.insurancegls.com/event/saybrus-partners-teton-5-teton-bonus-5-3/
END:VEVENT
BEGIN:VEVENT
DTSTART;TZID=America/New_York:20251028T150000
DTEND;TZID=America/New_York:20251028T160000
DTSTAMP:20260421T072415
CREATED:20251016T132034Z
LAST-MODIFIED:20251028T152139Z
UID:10001647-1761663600-1761667200@malvarlack.insurancegls.com
SUMMARY:North American – Executive Retention+ An Introductory Webinar
DESCRIPTION:
URL:https://malvarlack.insurancegls.com/event/north-american-executive-retention-an-introductory-webinar/
END:VEVENT
BEGIN:VEVENT
DTSTART;TZID=America/New_York:20251028T150000
DTEND;TZID=America/New_York:20251028T160000
DTSTAMP:20260421T072415
CREATED:20251016T132034Z
LAST-MODIFIED:20251028T152139Z
UID:10001648-1761663600-1761667200@malvarlack.insurancegls.com
SUMMARY:ManhattanLife – Cancer and or Heart & Stroke (CHAS)
DESCRIPTION:
URL:https://malvarlack.insurancegls.com/event/manhattanlife-cancer-and-or-heart-stroke-chas/
END:VEVENT
BEGIN:VEVENT
DTSTART;TZID=America/New_York:20251028T150000
DTEND;TZID=America/New_York:20251028T160000
DTSTAMP:20260421T072415
CREATED:20250928T094204Z
LAST-MODIFIED:20251015T103951Z
UID:10001609-1761663600-1761667200@malvarlack.insurancegls.com
SUMMARY:Executive Retention+ An Introductory Webinar
DESCRIPTION:
URL:https://malvarlack.insurancegls.com/event/executive-retention-an-introductory-webinar/
END:VEVENT
BEGIN:VEVENT
DTSTART;TZID=America/New_York:20251028T110000
DTEND;TZID=America/New_York:20251028T120000
DTSTAMP:20260421T072415
CREATED:20251016T132034Z
LAST-MODIFIED:20251028T152139Z
UID:10001646-1761649200-1761652800@malvarlack.insurancegls.com
SUMMARY:Americo – Instant Decision IUL: Fast\, Flexible and Powerful Protection
DESCRIPTION:
URL:https://malvarlack.insurancegls.com/event/americo-instant-decision-iul-fast-flexible-and-powerful-protection-3/
END:VEVENT
BEGIN:VEVENT
DTSTART;TZID=America/New_York:20251028T110000
DTEND;TZID=America/New_York:20251028T120000
DTSTAMP:20260421T072415
CREATED:20251016T132033Z
LAST-MODIFIED:20251028T152139Z
UID:10001644-1761649200-1761652800@malvarlack.insurancegls.com
SUMMARY:Aetna Senior Supplemental – Aetna Quote & Enroll Training – Final Expense
DESCRIPTION:
URL:https://malvarlack.insurancegls.com/event/aetna-senior-supplemental-aetna-quote-enroll-training-final-expense-2/
END:VEVENT
BEGIN:VEVENT
DTSTART;TZID=America/New_York:20251028T110000
DTEND;TZID=America/New_York:20251028T120000
DTSTAMP:20260421T072415
CREATED:20251016T132033Z
LAST-MODIFIED:20251028T152139Z
UID:10001645-1761649200-1761652800@malvarlack.insurancegls.com
SUMMARY:Golden Rule | UHOne – Turning Change Into Opportunity – Navigating ACA Shifts
DESCRIPTION:
URL:https://malvarlack.insurancegls.com/event/golden-rule-uhone-turning-change-into-opportunity-navigating-aca-shifts-3/
END:VEVENT
BEGIN:VEVENT
DTSTART;TZID=America/New_York:20251027T130000
DTEND;TZID=America/New_York:20251027T140000
DTSTAMP:20260421T072415
CREATED:20251016T132033Z
LAST-MODIFIED:20251027T151454Z
UID:10001642-1761570000-1761573600@malvarlack.insurancegls.com
SUMMARY:Dental\, Vision\, & Hearing Flex
DESCRIPTION:
URL:https://malvarlack.insurancegls.com/event/dental-vision-hearing-flex-3/
END:VEVENT
BEGIN:VEVENT
DTSTART;TZID=America/New_York:20251027T130000
DTEND;TZID=America/New_York:20251027T140000
DTSTAMP:20260421T072415
CREATED:20251016T132033Z
LAST-MODIFIED:20251027T151454Z
UID:10001643-1761570000-1761573600@malvarlack.insurancegls.com
SUMMARY:Aetna Senior Supplemental – Dental\, Vision\, & Hearing Flex
DESCRIPTION:
URL:https://malvarlack.insurancegls.com/event/aetna-senior-supplemental-dental-vision-hearing-flex-3/
END:VEVENT
BEGIN:VEVENT
DTSTART;TZID=America/New_York:20251024T110000
DTEND;TZID=America/New_York:20251024T120000
DTSTAMP:20260421T072415
CREATED:20251016T132033Z
LAST-MODIFIED:20251024T143457Z
UID:10001641-1761303600-1761307200@malvarlack.insurancegls.com
SUMMARY:Americo – Continuation – The Best of Term and Whole Life in One Policy
DESCRIPTION:
URL:https://malvarlack.insurancegls.com/event/americo-continuation-the-best-of-term-and-whole-life-in-one-policy/
END:VEVENT
BEGIN:VEVENT
DTSTART;TZID=America/New_York:20251024T110000
DTEND;TZID=America/New_York:20251024T120000
DTSTAMP:20260421T072415
CREATED:20251016T132032Z
LAST-MODIFIED:20251024T143457Z
UID:10001640-1761303600-1761307200@malvarlack.insurancegls.com
SUMMARY:Continuation – The Best of Term and Whole Life in One Policy
DESCRIPTION:
URL:https://malvarlack.insurancegls.com/event/continuation-the-best-of-term-and-whole-life-in-one-policy/
END:VEVENT
BEGIN:VEVENT
DTSTART;TZID=America/New_York:20251023T160000
DTEND;TZID=America/New_York:20251023T170000
DTSTAMP:20260421T072415
CREATED:20251016T132032Z
LAST-MODIFIED:20251023T143429Z
UID:10001638-1761235200-1761238800@malvarlack.insurancegls.com
SUMMARY:Ordering Sales Materials for CSB Brokers
DESCRIPTION:
URL:https://malvarlack.insurancegls.com/event/ordering-sales-materials-for-csb-brokers/
END:VEVENT
BEGIN:VEVENT
DTSTART;TZID=America/New_York:20251023T160000
DTEND;TZID=America/New_York:20251023T170000
DTSTAMP:20260421T072415
CREATED:20251016T132032Z
LAST-MODIFIED:20251023T143429Z
UID:10001639-1761235200-1761238800@malvarlack.insurancegls.com
SUMMARY:Cigna Healthcare Supplemental – Ordering Sales Materials for CSB Brokers
DESCRIPTION:
URL:https://malvarlack.insurancegls.com/event/cigna-healthcare-supplemental-ordering-sales-materials-for-csb-brokers-2/
END:VEVENT
BEGIN:VEVENT
DTSTART;TZID=America/New_York:20251023T150000
DTEND;TZID=America/New_York:20251023T160000
DTSTAMP:20260421T072415
CREATED:20251016T132031Z
LAST-MODIFIED:20251023T143429Z
UID:10001635-1761231600-1761235200@malvarlack.insurancegls.com
SUMMARY:Final Expense (Secure Advantage)
DESCRIPTION:
URL:https://malvarlack.insurancegls.com/event/final-expense-secure-advantage/
END:VEVENT
BEGIN:VEVENT
DTSTART;TZID=America/New_York:20251023T150000
DTEND;TZID=America/New_York:20251023T160000
DTSTAMP:20260421T072415
CREATED:20251016T132031Z
LAST-MODIFIED:20251023T143429Z
UID:10001636-1761231600-1761235200@malvarlack.insurancegls.com
SUMMARY:Golden Rule | UHOne – Unlocking the mystery of hospital indemnity – featuring HospitalWise
DESCRIPTION:
URL:https://malvarlack.insurancegls.com/event/golden-rule-uhone-unlocking-the-mystery-of-hospital-indemnity-featuring-hospitalwise/
END:VEVENT
BEGIN:VEVENT
DTSTART;TZID=America/New_York:20251023T150000
DTEND;TZID=America/New_York:20251023T160000
DTSTAMP:20260421T072415
CREATED:20251016T132031Z
LAST-MODIFIED:20251023T143429Z
UID:10001637-1761231600-1761235200@malvarlack.insurancegls.com
SUMMARY:ManhattanLife – Final Expense (Secure Advantage)
DESCRIPTION:
URL:https://malvarlack.insurancegls.com/event/manhattanlife-final-expense-secure-advantage/
END:VEVENT
BEGIN:VEVENT
DTSTART;TZID=America/New_York:20251023T150000
DTEND;TZID=America/New_York:20251023T160000
DTSTAMP:20260421T072415
CREATED:20251016T132030Z
LAST-MODIFIED:20251023T143429Z
UID:10001634-1761231600-1761235200@malvarlack.insurancegls.com
SUMMARY:Unlocking the mystery of hospital indemnity – featuring HospitalWise
DESCRIPTION:
URL:https://malvarlack.insurancegls.com/event/unlocking-the-mystery-of-hospital-indemnity-featuring-hospitalwise/
END:VEVENT
BEGIN:VEVENT
DTSTART;TZID=America/New_York:20251023T140000
DTEND;TZID=America/New_York:20251023T150000
DTSTAMP:20260421T072415
CREATED:20251016T132030Z
LAST-MODIFIED:20251023T143428Z
UID:10001633-1761228000-1761231600@malvarlack.insurancegls.com
SUMMARY:Aetna Senior Supplemental – How to Contract your Downline Agents
DESCRIPTION:
URL:https://malvarlack.insurancegls.com/event/aetna-senior-supplemental-how-to-contract-your-downline-agents-3/
END:VEVENT
BEGIN:VEVENT
DTSTART;TZID=America/New_York:20251023T110000
DTEND;TZID=America/New_York:20251023T120000
DTSTAMP:20260421T072415
CREATED:20251016T132030Z
LAST-MODIFIED:20251023T143428Z
UID:10001632-1761217200-1761220800@malvarlack.insurancegls.com
SUMMARY:Saybrus Partners – TETON 5 & TETON BONUS 5
DESCRIPTION:
URL:https://malvarlack.insurancegls.com/event/saybrus-partners-teton-5-teton-bonus-5-2/
END:VEVENT
BEGIN:VEVENT
DTSTART;TZID=America/New_York:20251021T150000
DTEND;TZID=America/New_York:20251021T160000
DTSTAMP:20260421T072415
CREATED:20251016T132029Z
LAST-MODIFIED:20251021T141928Z
UID:10001630-1761058800-1761062400@malvarlack.insurancegls.com
SUMMARY:ManhattanLife – Short-Term Care (Omni-Flex)
DESCRIPTION:
URL:https://malvarlack.insurancegls.com/event/manhattanlife-short-term-care-omni-flex/
END:VEVENT
BEGIN:VEVENT
DTSTART;TZID=America/New_York:20251021T150000
DTEND;TZID=America/New_York:20251021T160000
DTSTAMP:20260421T072415
CREATED:20251016T132029Z
LAST-MODIFIED:20251021T141928Z
UID:10001631-1761058800-1761062400@malvarlack.insurancegls.com
SUMMARY:Golden Rule | UHOne – Turning Change Into Opportunity – Navigating ACA Shifts
DESCRIPTION:
URL:https://malvarlack.insurancegls.com/event/golden-rule-uhone-turning-change-into-opportunity-navigating-aca-shifts-2/
END:VEVENT
BEGIN:VEVENT
DTSTART;TZID=America/New_York:20251021T130000
DTEND;TZID=America/New_York:20251021T140000
DTSTAMP:20260421T072415
CREATED:20251016T132029Z
LAST-MODIFIED:20251021T141928Z
UID:10001629-1761051600-1761055200@malvarlack.insurancegls.com
SUMMARY:American National – SEP IRAs – What is a SEP IRA? How does it work? Who is it good for?
DESCRIPTION:
URL:https://malvarlack.insurancegls.com/event/american-national-sep-iras-what-is-a-sep-ira-how-does-it-work-who-is-it-good-for/
END:VEVENT
BEGIN:VEVENT
DTSTART;TZID=America/New_York:20251021T110000
DTEND;TZID=America/New_York:20251021T120000
DTSTAMP:20260421T072415
CREATED:20251016T132029Z
LAST-MODIFIED:20251021T141928Z
UID:10001627-1761044400-1761048000@malvarlack.insurancegls.com
SUMMARY:Americo – Americo Fast Track: Essential Training for New Agents
DESCRIPTION:
URL:https://malvarlack.insurancegls.com/event/americo-americo-fast-track-essential-training-for-new-agents-3/
END:VEVENT
BEGIN:VEVENT
DTSTART;TZID=America/New_York:20251021T110000
DTEND;TZID=America/New_York:20251021T120000
DTSTAMP:20260421T072415
CREATED:20251016T132029Z
LAST-MODIFIED:20251021T141928Z
UID:10001628-1761044400-1761048000@malvarlack.insurancegls.com
SUMMARY:Aetna Senior Supplemental – Learn to Cross Sell with Medicare Supplement
DESCRIPTION:
URL:https://malvarlack.insurancegls.com/event/aetna-senior-supplemental-learn-to-cross-sell-with-medicare-supplement/
END:VEVENT
END:VCALENDAR