BEGIN:VCALENDAR
VERSION:2.0
PRODID:-//Mal Varlack - ECPv6.15.15//NONSGML v1.0//EN
CALSCALE:GREGORIAN
METHOD:PUBLISH
X-WR-CALNAME:Mal Varlack
X-ORIGINAL-URL:https://malvarlack.insurancegls.com
X-WR-CALDESC:Events for Mal Varlack
REFRESH-INTERVAL;VALUE=DURATION:PT1H
X-Robots-Tag:noindex
X-PUBLISHED-TTL:PT1H
BEGIN:VTIMEZONE
TZID:CST
END:VTIMEZONE
BEGIN:VTIMEZONE
TZID:MST
END:VTIMEZONE
BEGIN:VTIMEZONE
TZID:PST
END:VTIMEZONE
BEGIN:VTIMEZONE
TZID:EST
END:VTIMEZONE
BEGIN:VEVENT
DTSTART;TZID=CST:20260413T120000
DTEND;TZID=CST:20260413T120000
DTSTAMP:20260419T104539
CREATED:20260324T153158Z
LAST-MODIFIED:20260331T172203Z
UID:10001940-1776081600-1776081600@malvarlack.insurancegls.com
SUMMARY:2026 MA/MAPD product training
DESCRIPTION:
URL:https://malvarlack.insurancegls.com/event/2026-ma-mapd-product-training-31/
END:VEVENT
BEGIN:VEVENT
DTSTART;TZID=MST:20260413T140000
DTEND;TZID=MST:20260413T140000
DTSTAMP:20260419T104539
CREATED:20260324T153159Z
LAST-MODIFIED:20260331T172203Z
UID:10001941-1776088800-1776088800@malvarlack.insurancegls.com
SUMMARY:Producer World overview training
DESCRIPTION:
URL:https://malvarlack.insurancegls.com/event/producer-world-overview-training-9/
END:VEVENT
BEGIN:VEVENT
DTSTART;TZID=CST:20260414T083000
DTEND;TZID=CST:20260414T083000
DTSTAMP:20260419T104539
CREATED:20260324T153159Z
LAST-MODIFIED:20260331T172204Z
UID:10001942-1776155400-1776155400@malvarlack.insurancegls.com
SUMMARY:Broker Forum
DESCRIPTION:
URL:https://malvarlack.insurancegls.com/event/broker-forum-7/
END:VEVENT
BEGIN:VEVENT
DTSTART;TZID=PST:20260414T091500
DTEND;TZID=PST:20260414T091500
DTSTAMP:20260419T104539
CREATED:20260324T153159Z
LAST-MODIFIED:20260331T172204Z
UID:10001943-1776158100-1776158100@malvarlack.insurancegls.com
SUMMARY:Member retention: Review tips and strategies for retaining your clients
DESCRIPTION:
URL:https://malvarlack.insurancegls.com/event/member-retention-review-tips-and-strategies-for-retaining-your-clients-4/
END:VEVENT
BEGIN:VEVENT
DTSTART;TZID=MST:20260414T093000
DTEND;TZID=MST:20260414T093000
DTSTAMP:20260419T104539
CREATED:20260324T153159Z
LAST-MODIFIED:20260331T172204Z
UID:10001944-1776159000-1776159000@malvarlack.insurancegls.com
SUMMARY:Protecting Seniors from Elder Fraud
DESCRIPTION:
URL:https://malvarlack.insurancegls.com/event/protecting-seniors-from-elder-fraud/
END:VEVENT
BEGIN:VEVENT
DTSTART;TZID=EST:20260414T100000
DTEND;TZID=EST:20260414T100000
DTSTAMP:20260419T104539
CREATED:20260324T153159Z
LAST-MODIFIED:20260331T172204Z
UID:10001945-1776160800-1776160800@malvarlack.insurancegls.com
SUMMARY:Ethical Conduct in Medicare Business
DESCRIPTION:
URL:https://malvarlack.insurancegls.com/event/ethical-conduct-in-medicare-business/
END:VEVENT
BEGIN:VEVENT
DTSTART;TZID=CST:20260414T100000
DTEND;TZID=CST:20260414T100000
DTSTAMP:20260419T104539
CREATED:20260324T153159Z
LAST-MODIFIED:20260331T172205Z
UID:10001946-1776160800-1776160800@malvarlack.insurancegls.com
SUMMARY:2026 MA/MAPD product training
DESCRIPTION:
URL:https://malvarlack.insurancegls.com/event/2026-ma-mapd-product-training-32/
END:VEVENT
BEGIN:VEVENT
DTSTART;TZID=CST:20260414T100000
DTEND;TZID=CST:20260414T100000
DTSTAMP:20260419T104539
CREATED:20260324T153159Z
LAST-MODIFIED:20260331T172205Z
UID:10001947-1776160800-1776160800@malvarlack.insurancegls.com
SUMMARY:Veteran Benefits and Medicare
DESCRIPTION:
URL:https://malvarlack.insurancegls.com/event/veteran-benefits-and-medicare-2/
END:VEVENT
BEGIN:VEVENT
DTSTART;TZID=EST:20260414T100000
DTEND;TZID=EST:20260414T100000
DTSTAMP:20260419T104539
CREATED:20260324T153159Z
LAST-MODIFIED:20260331T172205Z
UID:10001948-1776160800-1776160800@malvarlack.insurancegls.com
SUMMARY:2026 Retail Event Readiness
DESCRIPTION:
URL:https://malvarlack.insurancegls.com/event/2026-retail-event-readiness-8/
END:VEVENT
BEGIN:VEVENT
DTSTART;TZID=EST:20260414T100000
DTEND;TZID=EST:20260414T100000
DTSTAMP:20260419T104539
CREATED:20260324T153200Z
LAST-MODIFIED:20260331T172205Z
UID:10001949-1776160800-1776160800@malvarlack.insurancegls.com
SUMMARY:Think Agent: New Version Changes
DESCRIPTION:
URL:https://malvarlack.insurancegls.com/event/think-agent-new-version-changes-3/
END:VEVENT
BEGIN:VEVENT
DTSTART;TZID=EST:20260414T100000
DTEND;TZID=EST:20260414T100000
DTSTAMP:20260419T104539
CREATED:20260324T153200Z
LAST-MODIFIED:20260331T172206Z
UID:10001950-1776160800-1776160800@malvarlack.insurancegls.com
SUMMARY:Deep Dive\, CSNP
DESCRIPTION:
URL:https://malvarlack.insurancegls.com/event/deep-dive-csnp-5/
END:VEVENT
BEGIN:VEVENT
DTSTART;TZID=PST:20260414T100000
DTEND;TZID=PST:20260414T100000
DTSTAMP:20260419T104539
CREATED:20260324T153200Z
LAST-MODIFIED:20260331T172206Z
UID:10001951-1776160800-1776160800@malvarlack.insurancegls.com
SUMMARY:Deep Dive\, CSNP
DESCRIPTION:
URL:https://malvarlack.insurancegls.com/event/deep-dive-csnp-6/
END:VEVENT
BEGIN:VEVENT
DTSTART;TZID=CST:20260414T100000
DTEND;TZID=CST:20260414T100000
DTSTAMP:20260419T104539
CREATED:20260324T153200Z
LAST-MODIFIED:20260331T172206Z
UID:10001952-1776160800-1776160800@malvarlack.insurancegls.com
SUMMARY:Medicare Shop Talk
DESCRIPTION:
URL:https://malvarlack.insurancegls.com/event/medicare-shop-talk-4/
END:VEVENT
BEGIN:VEVENT
DTSTART;TZID=PST:20260414T103000
DTEND;TZID=PST:20260414T103000
DTSTAMP:20260419T104539
CREATED:20260324T153200Z
LAST-MODIFIED:20260331T172206Z
UID:10001953-1776162600-1776162600@malvarlack.insurancegls.com
SUMMARY:2026 MA/MAPD product training
DESCRIPTION:
URL:https://malvarlack.insurancegls.com/event/2026-ma-mapd-product-training-33/
END:VEVENT
BEGIN:VEVENT
DTSTART;TZID=EST:20260414T110000
DTEND;TZID=EST:20260414T110000
DTSTAMP:20260419T104539
CREATED:20260324T153201Z
LAST-MODIFIED:20260331T172206Z
UID:10001954-1776164400-1776164400@malvarlack.insurancegls.com
SUMMARY:Deep Dive\, CSNP
DESCRIPTION:
URL:https://malvarlack.insurancegls.com/event/deep-dive-csnp-7/
END:VEVENT
BEGIN:VEVENT
DTSTART;TZID=CST:20260414T120000
DTEND;TZID=CST:20260414T120000
DTSTAMP:20260419T104539
CREATED:20260324T153201Z
LAST-MODIFIED:20260331T172206Z
UID:10001955-1776168000-1776168000@malvarlack.insurancegls.com
SUMMARY:Online provider lookup/provider directory training
DESCRIPTION:
URL:https://malvarlack.insurancegls.com/event/online-provider-lookup-provider-directory-training-3/
END:VEVENT
BEGIN:VEVENT
DTSTART;TZID=EST:20260414T130000
DTEND;TZID=EST:20260414T130000
DTSTAMP:20260419T104539
CREATED:20260324T153201Z
LAST-MODIFIED:20260331T172207Z
UID:10001956-1776171600-1776171600@malvarlack.insurancegls.com
SUMMARY:DSNP Playbook – A Broker Resource Guide
DESCRIPTION:
URL:https://malvarlack.insurancegls.com/event/dsnp-playbook-a-broker-resource-guide/
END:VEVENT
BEGIN:VEVENT
DTSTART;TZID=EST:20260414T160000
DTEND;TZID=EST:20260414T160000
DTSTAMP:20260419T104539
CREATED:20260324T153201Z
LAST-MODIFIED:20260331T172208Z
UID:10001957-1776182400-1776182400@malvarlack.insurancegls.com
SUMMARY:2026 MA/MAPD product training
DESCRIPTION:
URL:https://malvarlack.insurancegls.com/event/2026-ma-mapd-product-training-34/
END:VEVENT
BEGIN:VEVENT
DTSTART;TZID=EST:20260415T090000
DTEND;TZID=EST:20260415T090000
DTSTAMP:20260419T104539
CREATED:20260324T153201Z
LAST-MODIFIED:20260331T172208Z
UID:10001958-1776243600-1776243600@malvarlack.insurancegls.com
SUMMARY:Did you know? Learn top reasons to sell Aetna Medicare
DESCRIPTION:
URL:https://malvarlack.insurancegls.com/event/did-you-know-learn-top-reasons-to-sell-aetna-medicare-2/
END:VEVENT
BEGIN:VEVENT
DTSTART;TZID=CST:20260415T093000
DTEND;TZID=CST:20260415T093000
DTSTAMP:20260419T104539
CREATED:20260324T153202Z
LAST-MODIFIED:20260331T172208Z
UID:10001959-1776245400-1776245400@malvarlack.insurancegls.com
SUMMARY:Online provider lookup/provider directory training
DESCRIPTION:
URL:https://malvarlack.insurancegls.com/event/online-provider-lookup-provider-directory-training-4/
END:VEVENT
BEGIN:VEVENT
DTSTART;TZID=EST:20260415T100000
DTEND;TZID=EST:20260415T100000
DTSTAMP:20260419T104539
CREATED:20260324T153202Z
LAST-MODIFIED:20260331T172208Z
UID:10001960-1776247200-1776247200@malvarlack.insurancegls.com
SUMMARY:2026 MA/MAPD product training
DESCRIPTION:
URL:https://malvarlack.insurancegls.com/event/2026-ma-mapd-product-training-35/
END:VEVENT
BEGIN:VEVENT
DTSTART;TZID=CST:20260415T100000
DTEND;TZID=CST:20260415T100000
DTSTAMP:20260419T104539
CREATED:20260324T153202Z
LAST-MODIFIED:20260331T172208Z
UID:10001961-1776247200-1776247200@malvarlack.insurancegls.com
SUMMARY:What is up Wednesdays
DESCRIPTION:
URL:https://malvarlack.insurancegls.com/event/what-is-up-wednesdays-5/
END:VEVENT
BEGIN:VEVENT
DTSTART;TZID=CST:20260415T100000
DTEND;TZID=CST:20260415T100000
DTSTAMP:20260419T104539
CREATED:20260324T153202Z
LAST-MODIFIED:20260331T172208Z
UID:10001962-1776247200-1776247200@malvarlack.insurancegls.com
SUMMARY:Meet and Greet your new Medicare Broker Manager
DESCRIPTION:
URL:https://malvarlack.insurancegls.com/event/meet-and-greet-your-new-medicare-broker-manager/
END:VEVENT
BEGIN:VEVENT
DTSTART;TZID=PST:20260415T100000
DTEND;TZID=PST:20260415T100000
DTSTAMP:20260419T104539
CREATED:20260324T153202Z
LAST-MODIFIED:20260331T172209Z
UID:10001963-1776247200-1776247200@malvarlack.insurancegls.com
SUMMARY:Coffee Club
DESCRIPTION:
URL:https://malvarlack.insurancegls.com/event/coffee-club-2/
END:VEVENT
BEGIN:VEVENT
DTSTART;TZID=EST:20260415T100000
DTEND;TZID=EST:20260415T100000
DTSTAMP:20260419T104539
CREATED:20260324T153203Z
LAST-MODIFIED:20260331T172209Z
UID:10001964-1776247200-1776247200@malvarlack.insurancegls.com
SUMMARY:Medicare Shop Talk
DESCRIPTION:
URL:https://malvarlack.insurancegls.com/event/medicare-shop-talk-5/
END:VEVENT
BEGIN:VEVENT
DTSTART;TZID=EST:20260415T100000
DTEND;TZID=EST:20260415T100000
DTSTAMP:20260419T104539
CREATED:20260324T153203Z
LAST-MODIFIED:20260331T172209Z
UID:10001965-1776247200-1776247200@malvarlack.insurancegls.com
SUMMARY:Grassroots Marketing\, what is it and why is it important
DESCRIPTION:
URL:https://malvarlack.insurancegls.com/event/grassroots-marketing-what-is-it-and-why-is-it-important-7/
END:VEVENT
BEGIN:VEVENT
DTSTART;TZID=EST:20260415T110000
DTEND;TZID=EST:20260415T110000
DTSTAMP:20260419T104539
CREATED:20260324T153203Z
LAST-MODIFIED:20260331T172209Z
UID:10001966-1776250800-1776250800@malvarlack.insurancegls.com
SUMMARY:Dual-eligible Special Needs Plan (DSNP) training
DESCRIPTION:
URL:https://malvarlack.insurancegls.com/event/dual-eligible-special-needs-plan-dsnp-training-5/
END:VEVENT
BEGIN:VEVENT
DTSTART;TZID=EST:20260415T130000
DTEND;TZID=EST:20260415T130000
DTSTAMP:20260419T104539
CREATED:20260324T153204Z
LAST-MODIFIED:20260331T172209Z
UID:10001967-1776258000-1776258000@malvarlack.insurancegls.com
SUMMARY:Producer World overview training
DESCRIPTION:
URL:https://malvarlack.insurancegls.com/event/producer-world-overview-training-10/
END:VEVENT
BEGIN:VEVENT
DTSTART;TZID=EST:20260415T140000
DTEND;TZID=EST:20260415T140000
DTSTAMP:20260419T104539
CREATED:20260324T153204Z
LAST-MODIFIED:20260331T172209Z
UID:10001968-1776261600-1776261600@malvarlack.insurancegls.com
SUMMARY:Grassroots Marketing\, what is it and why is it important
DESCRIPTION:
URL:https://malvarlack.insurancegls.com/event/grassroots-marketing-what-is-it-and-why-is-it-important-8/
END:VEVENT
BEGIN:VEVENT
DTSTART;TZID=EST:20260416T090000
DTEND;TZID=EST:20260416T090000
DTSTAMP:20260419T104539
CREATED:20260324T153204Z
LAST-MODIFIED:20260331T172209Z
UID:10001969-1776330000-1776330000@malvarlack.insurancegls.com
SUMMARY:Broker Forum
DESCRIPTION:
URL:https://malvarlack.insurancegls.com/event/broker-forum-8/
END:VEVENT
END:VCALENDAR