BEGIN:VCALENDAR
VERSION:2.0
PRODID:-//Mal Varlack - ECPv6.15.15//NONSGML v1.0//EN
CALSCALE:GREGORIAN
METHOD:PUBLISH
X-ORIGINAL-URL:https://malvarlack.insurancegls.com
X-WR-CALDESC:Events for Mal Varlack
REFRESH-INTERVAL;VALUE=DURATION:PT1H
X-Robots-Tag:noindex
X-PUBLISHED-TTL:PT1H
BEGIN:VTIMEZONE
TZID:EST
END:VTIMEZONE
BEGIN:VTIMEZONE
TZID:CST
END:VTIMEZONE
BEGIN:VTIMEZONE
TZID:PST
END:VTIMEZONE
BEGIN:VTIMEZONE
TZID:America/New_York
BEGIN:DAYLIGHT
TZOFFSETFROM:-0500
TZOFFSETTO:-0400
TZNAME:EDT
DTSTART:20250309T070000
END:DAYLIGHT
BEGIN:STANDARD
TZOFFSETFROM:-0400
TZOFFSETTO:-0500
TZNAME:EST
DTSTART:20251102T060000
END:STANDARD
BEGIN:DAYLIGHT
TZOFFSETFROM:-0500
TZOFFSETTO:-0400
TZNAME:EDT
DTSTART:20260308T070000
END:DAYLIGHT
BEGIN:STANDARD
TZOFFSETFROM:-0400
TZOFFSETTO:-0500
TZNAME:EST
DTSTART:20261101T060000
END:STANDARD
BEGIN:DAYLIGHT
TZOFFSETFROM:-0500
TZOFFSETTO:-0400
TZNAME:EDT
DTSTART:20270314T070000
END:DAYLIGHT
BEGIN:STANDARD
TZOFFSETFROM:-0400
TZOFFSETTO:-0500
TZNAME:EST
DTSTART:20271107T060000
END:STANDARD
END:VTIMEZONE
BEGIN:VTIMEZONE
TZID:MST
END:VTIMEZONE
BEGIN:VEVENT
DTSTART;TZID=EST:20260416T100000
DTEND;TZID=EST:20260416T100000
DTSTAMP:20260421T204951
CREATED:20260324T153205Z
LAST-MODIFIED:20260331T172211Z
UID:10001976-1776333600-1776333600@malvarlack.insurancegls.com
SUMMARY:Ethical Conduct in Medicare Business
DESCRIPTION:
URL:https://malvarlack.insurancegls.com/event/ethical-conduct-in-medicare-business-2/
END:VEVENT
BEGIN:VEVENT
DTSTART;TZID=EST:20260416T110000
DTEND;TZID=EST:20260416T110000
DTSTAMP:20260421T204951
CREATED:20260324T153205Z
LAST-MODIFIED:20260331T172211Z
UID:10001977-1776337200-1776337200@malvarlack.insurancegls.com
SUMMARY:2026 MA/MAPD product training
DESCRIPTION:
URL:https://malvarlack.insurancegls.com/event/2026-ma-mapd-product-training-36/
END:VEVENT
BEGIN:VEVENT
DTSTART;TZID=EST:20260416T120000
DTEND;TZID=EST:20260416T120000
DTSTAMP:20260421T204951
CREATED:20260324T153205Z
LAST-MODIFIED:20260331T172211Z
UID:10001978-1776340800-1776340800@malvarlack.insurancegls.com
SUMMARY:2026 Retail Event Readiness
DESCRIPTION:
URL:https://malvarlack.insurancegls.com/event/2026-retail-event-readiness-9/
END:VEVENT
BEGIN:VEVENT
DTSTART;TZID=CST:20260416T120000
DTEND;TZID=CST:20260416T120000
DTSTAMP:20260421T204951
CREATED:20260324T153205Z
LAST-MODIFIED:20260331T172211Z
UID:10001979-1776340800-1776340800@malvarlack.insurancegls.com
SUMMARY:What is up Wednesdays
DESCRIPTION:
URL:https://malvarlack.insurancegls.com/event/what-is-up-wednesdays-6/
END:VEVENT
BEGIN:VEVENT
DTSTART;TZID=EST:20260416T130000
DTEND;TZID=EST:20260416T130000
DTSTAMP:20260421T204951
CREATED:20260324T153205Z
LAST-MODIFIED:20260331T172211Z
UID:10001980-1776344400-1776344400@malvarlack.insurancegls.com
SUMMARY:Grassroots Marketing\, what is it and why is it important
DESCRIPTION:
URL:https://malvarlack.insurancegls.com/event/grassroots-marketing-what-is-it-and-why-is-it-important-9/
END:VEVENT
BEGIN:VEVENT
DTSTART;TZID=EST:20260416T130000
DTEND;TZID=EST:20260416T130000
DTSTAMP:20260421T204951
CREATED:20260324T153205Z
LAST-MODIFIED:20260331T172212Z
UID:10001981-1776344400-1776344400@malvarlack.insurancegls.com
SUMMARY:Broker Forum
DESCRIPTION:
URL:https://malvarlack.insurancegls.com/event/broker-forum-9/
END:VEVENT
BEGIN:VEVENT
DTSTART;TZID=CST:20260416T133000
DTEND;TZID=CST:20260416T133000
DTSTAMP:20260421T204951
CREATED:20260324T153205Z
LAST-MODIFIED:20260331T172212Z
UID:10001982-1776346200-1776346200@malvarlack.insurancegls.com
SUMMARY:Aetna Value Plus Plans Designed for LIS Beneficiaries
DESCRIPTION:
URL:https://malvarlack.insurancegls.com/event/aetna-value-plus-plans-designed-for-lis-beneficiaries-2/
END:VEVENT
BEGIN:VEVENT
DTSTART;TZID=PST:20260416T140000
DTEND;TZID=PST:20260416T140000
DTSTAMP:20260421T204951
CREATED:20260324T153205Z
LAST-MODIFIED:20260331T172212Z
UID:10001983-1776348000-1776348000@malvarlack.insurancegls.com
SUMMARY:Producer World overview training
DESCRIPTION:
URL:https://malvarlack.insurancegls.com/event/producer-world-overview-training-12/
END:VEVENT
BEGIN:VEVENT
DTSTART;TZID=America/New_York:20260416T143000
DTEND;TZID=America/New_York:20260416T150000
DTSTAMP:20260421T204951
CREATED:20260317T100441Z
LAST-MODIFIED:20260331T172212Z
UID:10001815-1776349800-1776351600@malvarlack.insurancegls.com
SUMMARY:North American – North Americans Demystifying Indexed Universal Life (IUL) Series
DESCRIPTION:
URL:https://malvarlack.insurancegls.com/event/north-american-north-americans-demystifying-indexed-universal-life-iul-series-2/
END:VEVENT
BEGIN:VEVENT
DTSTART;TZID=MST:20260416T150000
DTEND;TZID=MST:20260416T150000
DTSTAMP:20260421T204951
CREATED:20260324T153206Z
LAST-MODIFIED:20260331T172212Z
UID:10001984-1776351600-1776351600@malvarlack.insurancegls.com
SUMMARY:Think Agent: New Version Changes
DESCRIPTION:
URL:https://malvarlack.insurancegls.com/event/think-agent-new-version-changes-4/
END:VEVENT
BEGIN:VEVENT
DTSTART;TZID=PST:20260417T093000
DTEND;TZID=PST:20260417T093000
DTSTAMP:20260421T204951
CREATED:20260324T153206Z
LAST-MODIFIED:20260331T172213Z
UID:10001985-1776418200-1776418200@malvarlack.insurancegls.com
SUMMARY:Grab and Go: Swing by for a refill on kits and supplies
DESCRIPTION:
URL:https://malvarlack.insurancegls.com/event/grab-and-go-swing-by-for-a-refill-on-kits-and-supplies/
END:VEVENT
BEGIN:VEVENT
DTSTART;TZID=EST:20260417T100000
DTEND;TZID=EST:20260417T100000
DTSTAMP:20260421T204951
CREATED:20260324T153206Z
LAST-MODIFIED:20260331T172213Z
UID:10001986-1776420000-1776420000@malvarlack.insurancegls.com
SUMMARY:2026 MA/MAPD product training
DESCRIPTION:
URL:https://malvarlack.insurancegls.com/event/2026-ma-mapd-product-training-37/
END:VEVENT
BEGIN:VEVENT
DTSTART;TZID=EST:20260417T100000
DTEND;TZID=EST:20260417T100000
DTSTAMP:20260421T204951
CREATED:20260324T153206Z
LAST-MODIFIED:20260331T172213Z
UID:10001987-1776420000-1776420000@malvarlack.insurancegls.com
SUMMARY:Broker Forum
DESCRIPTION:
URL:https://malvarlack.insurancegls.com/event/broker-forum-10/
END:VEVENT
BEGIN:VEVENT
DTSTART;TZID=EST:20260417T110000
DTEND;TZID=EST:20260417T110000
DTSTAMP:20260421T204951
CREATED:20260324T153206Z
LAST-MODIFIED:20260331T172213Z
UID:10001988-1776423600-1776423600@malvarlack.insurancegls.com
SUMMARY:2026 Retail Event Readiness
DESCRIPTION:
URL:https://malvarlack.insurancegls.com/event/2026-retail-event-readiness-10/
END:VEVENT
BEGIN:VEVENT
DTSTART;TZID=EST:20260417T130000
DTEND;TZID=EST:20260417T130000
DTSTAMP:20260421T204951
CREATED:20260324T153206Z
LAST-MODIFIED:20260331T172213Z
UID:10001989-1776430800-1776430800@malvarlack.insurancegls.com
SUMMARY:Deep Dive\, HMO
DESCRIPTION:
URL:https://malvarlack.insurancegls.com/event/deep-dive-hmo-2/
END:VEVENT
BEGIN:VEVENT
DTSTART;TZID=EST:20260417T130000
DTEND;TZID=EST:20260417T130000
DTSTAMP:20260421T204951
CREATED:20260324T153207Z
LAST-MODIFIED:20260331T172213Z
UID:10001990-1776430800-1776430800@malvarlack.insurancegls.com
SUMMARY:Deep Dive\, HMO
DESCRIPTION:
URL:https://malvarlack.insurancegls.com/event/deep-dive-hmo-3/
END:VEVENT
BEGIN:VEVENT
DTSTART;TZID=EST:20260420T090000
DTEND;TZID=EST:20260420T090000
DTSTAMP:20260421T204951
CREATED:20260324T153207Z
LAST-MODIFIED:20260331T172213Z
UID:10001991-1776675600-1776675600@malvarlack.insurancegls.com
SUMMARY:Dual-eligible Special Needs Plan (DSNP) training
DESCRIPTION:
URL:https://malvarlack.insurancegls.com/event/dual-eligible-special-needs-plan-dsnp-training-6/
END:VEVENT
BEGIN:VEVENT
DTSTART;TZID=EST:20260420T093000
DTEND;TZID=EST:20260420T093000
DTSTAMP:20260421T204951
CREATED:20260324T153207Z
LAST-MODIFIED:20260331T172213Z
UID:10001992-1776677400-1776677400@malvarlack.insurancegls.com
SUMMARY:2026 MA/MAPD product training
DESCRIPTION:
URL:https://malvarlack.insurancegls.com/event/2026-ma-mapd-product-training-38/
END:VEVENT
BEGIN:VEVENT
DTSTART;TZID=EST:20260420T100000
DTEND;TZID=EST:20260420T100000
DTSTAMP:20260421T204951
CREATED:20260324T153207Z
LAST-MODIFIED:20260331T172214Z
UID:10001993-1776679200-1776679200@malvarlack.insurancegls.com
SUMMARY:Momentum Mondays
DESCRIPTION:
URL:https://malvarlack.insurancegls.com/event/momentum-mondays-5/
END:VEVENT
BEGIN:VEVENT
DTSTART;TZID=EST:20260420T103000
DTEND;TZID=EST:20260420T103000
DTSTAMP:20260421T204951
CREATED:20260324T153207Z
LAST-MODIFIED:20260331T172214Z
UID:10001994-1776681000-1776681000@malvarlack.insurancegls.com
SUMMARY:Aetna Academy\, Cross Selling Ancillary Products
DESCRIPTION:
URL:https://malvarlack.insurancegls.com/event/aetna-academy-cross-selling-ancillary-products-2/
END:VEVENT
BEGIN:VEVENT
DTSTART;TZID=CST:20260420T113000
DTEND;TZID=CST:20260420T113000
DTSTAMP:20260421T204951
CREATED:20260324T153207Z
LAST-MODIFIED:20260331T172214Z
UID:10001995-1776684600-1776684600@malvarlack.insurancegls.com
SUMMARY:Momentum Mondays
DESCRIPTION:
URL:https://malvarlack.insurancegls.com/event/momentum-mondays-6/
END:VEVENT
BEGIN:VEVENT
DTSTART;TZID=CST:20260421T093000
DTEND;TZID=CST:20260421T093000
DTSTAMP:20260421T204951
CREATED:20260324T153208Z
LAST-MODIFIED:20260331T172214Z
UID:10001996-1776763800-1776763800@malvarlack.insurancegls.com
SUMMARY:2026 MA/MAPD product training
DESCRIPTION:
URL:https://malvarlack.insurancegls.com/event/2026-ma-mapd-product-training-39/
END:VEVENT
BEGIN:VEVENT
DTSTART;TZID=EST:20260421T100000
DTEND;TZID=EST:20260421T100000
DTSTAMP:20260421T204951
CREATED:20260324T153208Z
LAST-MODIFIED:20260331T172214Z
UID:10001997-1776765600-1776765600@malvarlack.insurancegls.com
SUMMARY:Centers of Influence Marketing
DESCRIPTION:
URL:https://malvarlack.insurancegls.com/event/centers-of-influence-marketing-2/
END:VEVENT
BEGIN:VEVENT
DTSTART;TZID=CST:20260421T100000
DTEND;TZID=CST:20260421T100000
DTSTAMP:20260421T204951
CREATED:20260324T153208Z
LAST-MODIFIED:20260331T172214Z
UID:10001998-1776765600-1776765600@malvarlack.insurancegls.com
SUMMARY:Pharmacy and Formulary 101
DESCRIPTION:
URL:https://malvarlack.insurancegls.com/event/pharmacy-and-formulary-101-3/
END:VEVENT
BEGIN:VEVENT
DTSTART;TZID=CST:20260421T100000
DTEND;TZID=CST:20260421T100000
DTSTAMP:20260421T204951
CREATED:20260324T153208Z
LAST-MODIFIED:20260331T172214Z
UID:10001999-1776765600-1776765600@malvarlack.insurancegls.com
SUMMARY:Educational events: Learn how to offer them and guidelines you need to follow
DESCRIPTION:
URL:https://malvarlack.insurancegls.com/event/educational-events-learn-how-to-offer-them-and-guidelines-you-need-to-follow/
END:VEVENT
BEGIN:VEVENT
DTSTART;TZID=EST:20260421T100000
DTEND;TZID=EST:20260421T100000
DTSTAMP:20260421T204951
CREATED:20260324T153208Z
LAST-MODIFIED:20260331T172215Z
UID:10002000-1776765600-1776765600@malvarlack.insurancegls.com
SUMMARY:2026 MA/MAPD product training
DESCRIPTION:
URL:https://malvarlack.insurancegls.com/event/2026-ma-mapd-product-training-40/
END:VEVENT
BEGIN:VEVENT
DTSTART;TZID=EST:20260421T110000
DTEND;TZID=EST:20260421T110000
DTSTAMP:20260421T204951
CREATED:20260324T153208Z
LAST-MODIFIED:20260331T172215Z
UID:10002001-1776769200-1776769200@malvarlack.insurancegls.com
SUMMARY:Producer World overview training
DESCRIPTION:
URL:https://malvarlack.insurancegls.com/event/producer-world-overview-training-13/
END:VEVENT
BEGIN:VEVENT
DTSTART;TZID=CST:20260421T110000
DTEND;TZID=CST:20260421T110000
DTSTAMP:20260421T204951
CREATED:20260324T153208Z
LAST-MODIFIED:20260331T172215Z
UID:10002002-1776769200-1776769200@malvarlack.insurancegls.com
SUMMARY:2026 MA/MAPD product training
DESCRIPTION:
URL:https://malvarlack.insurancegls.com/event/2026-ma-mapd-product-training-41/
END:VEVENT
BEGIN:VEVENT
DTSTART;TZID=EST:20260421T130000
DTEND;TZID=EST:20260421T130000
DTSTAMP:20260421T204951
CREATED:20260324T153209Z
LAST-MODIFIED:20260331T172215Z
UID:10002003-1776776400-1776776400@malvarlack.insurancegls.com
SUMMARY:2026 MA/MAPD product training
DESCRIPTION:
URL:https://malvarlack.insurancegls.com/event/2026-ma-mapd-product-training-42/
END:VEVENT
BEGIN:VEVENT
DTSTART;TZID=MST:20260422T093000
DTEND;TZID=MST:20260422T093000
DTSTAMP:20260421T204951
CREATED:20260324T153209Z
LAST-MODIFIED:20260331T172215Z
UID:10002004-1776850200-1776850200@malvarlack.insurancegls.com
SUMMARY:2026 MA/MAPD product training
DESCRIPTION:
URL:https://malvarlack.insurancegls.com/event/2026-ma-mapd-product-training-43/
END:VEVENT
END:VCALENDAR